View In:
ArcGIS JavaScript
ArcGIS Online Map Viewer
ArcGIS Earth
ArcMap
ArcGIS Pro
View Footprint In:
ArcGIS Online Map Viewer
Service Description: Capa vectorial de tipo polígono que representa las zonas con riesgo social ante tsunami en Lima Metropolitana.
Map Name: Map
Legend
All Layers and Tables
Dynamic Legend
Dynamic All Layers
Layers:
Description: Capa vectorial de tipo polígono que representa las zonas con riesgo social ante tsunami en Lima Metropolitana.
Service Item Id: c754cc58e9c04eb4ac2355689bf6e011
Copyright Text: Dirección de Hidrografía y Navegación – DHN – 2019
Instituto Nacional de Estadística e Informática - INEI 2017
Spatial Reference:
102100
(3857)
Single Fused Map Cache: true
Tile Info:
- Height: 256
- Width: 256
- DPI: 96
-
Levels of Detail: 24
-
Level ID: 1
[ Start Tile, End Tile ]
- Resolution: 78271.5169639999
- Scale: 2.95828763795777E8
-
Level ID: 2
[ Start Tile, End Tile ]
- Resolution: 39135.7584820001
- Scale: 1.47914381897889E8
-
Level ID: 3
[ Start Tile, End Tile ]
- Resolution: 19567.8792409999
- Scale: 7.3957190948944E7
-
Level ID: 4
[ Start Tile, End Tile ]
- Resolution: 9783.93962049996
- Scale: 3.6978595474472E7
-
Level ID: 5
[ Start Tile, End Tile ]
- Resolution: 4891.96981024998
- Scale: 1.8489297737236E7
- Format: PNG
- Compression Quality: 0.0
- Origin: X: -2.0037508342787E7
Y: 2.0037508342787E7
- Spatial Reference: 102100
(3857)
Initial Extent:
XMin: -8581218.481375977
YMin: -1391071.607777691
XMax: -8530253.160345811
YMax: -1351154.9485438871
Spatial Reference: 102100
Full Extent:
XMin: -8594043.82569439
YMin: -1403239.8528207743
XMax: -8534497.514281692
YMax: -1314646.4152457486
Spatial Reference: 102100
Units: esriMeters
Supported Image Format Types: PNG32,PNG24,PNG,JPG,DIB,TIFF,EMF,PS,PDF,GIF,SVG,SVGZ,BMP
Document Info:
Title: C:\Users\ASUS\AppData\Local\Temp\ArcGISProTemp7296\a68a73d7-8f7c-4077-ae18-aafaea5f7a8e\Untitled.aprx
Author:
Comments:
Subject:
Category:
Keywords: Riesgo,tsunami
AntialiasingMode: None
TextAntialiasingMode: Force
Supports Dynamic Layers: true
MaxRecordCount: 2000
MaxImageHeight: 4096
MaxImageWidth: 4096
Supported Query Formats: JSON, geoJSON, PBF
Supports Query Data Elements: true
Min Scale: 1155581.108577
Max Scale: 4513.988705
Min LOD: 9
Max LOD: 17
Supports Datum Transformation: true
Child Resources:
Info
Dynamic Layer
Supported Operations:
Export Map
Identify
QueryDomains
QueryLegends
Find
Return Updates